BEGIN:VCALENDAR
PRODID:-//eluceo/ical//2.0/EN
VERSION:2.0
CALSCALE:GREGORIAN
BEGIN:VEVENT
UID:141b73619d0a0ff1629c1ee902b94e9d
DTSTAMP:20260423T220939Z
SUMMARY:Screening of film "The Rape of Europa"
DESCRIPTION:Jewish Federation of the Berkshires\nBerkshire Jewish Community
  Calendar\nhttps://jewishberkshires.org/jewish-federation-of-the-berkshire
 s-calendar/screening-of-film-the-rape-of-europa\n\nThe Jewish Federation C
 onnecting with Community will screen the film "The Rape of Europa."  This 
 film captures the epic story of the systematic theft\, deliberate destruct
 ion\, and miraculous survival of Europe's art treasures during the Third R
 eich and WWII.
DTSTART;TZID=America/New_York:20171204T104500
DTEND;TZID=America/New_York:20171204T134500
END:VEVENT
END:VCALENDAR
