BEGIN:VCALENDAR
PRODID:-//eluceo/ical//2.0/EN
VERSION:2.0
CALSCALE:GREGORIAN
BEGIN:VEVENT
UID:7eec3c3cee6f55dc28af0855996b2491
DTSTAMP:20260423T141719Z
SUMMARY:Screening of film "Salam Neighbor"
DESCRIPTION:Jewish Federation of the Berkshires\nBerkshire Jewish Community
  Calendar\nhttps://jewishberkshires.org/jewish-federation-of-the-berkshire
 s-calendar/screening-of-film-salam-neighbor\n\nThe Jewish Federation Conne
 cting with Community\, in collaboration with Jewish Family Services of Wes
 tern MA\, will screen the film Salam Neighbor.  This documentary concentra
 tes on five Syrian refugees while also reflecting the shared stories among
  the 65 million refugees around the globe.
DTSTART;TZID=America/New_York:20170914T104500
DTEND;TZID=America/New_York:20170914T120000
END:VEVENT
END:VCALENDAR
