BEGIN:VCALENDAR
PRODID:-//eluceo/ical//2.0/EN
VERSION:2.0
CALSCALE:GREGORIAN
BEGIN:VEVENT
UID:4d55ceef135d928ebff3286b070f246c
DTSTAMP:20260422T191719Z
SUMMARY:Screening of "Creating Harmony: The Displaced Persons' Orchestra"
DESCRIPTION:Jewish Federation of the Berkshires\nBerkshire Jewish Community
  Calendar\nhttps://jewishberkshires.org/jewish-federation-of-the-berkshire
 s-calendar/screening-of-creating-harmony-the-displaced-persons-orchestra\n
 \nThe Jewish Federation Connecting with Community will screen the film Cre
 ating Harmony: The Displaced Persons' Orchestra from St. Ottilien.
DTSTART;TZID=America/New_York:20180416T104500
DTEND;TZID=America/New_York:20180416T120000
END:VEVENT
END:VCALENDAR
