BEGIN:VCALENDAR
PRODID:-//eluceo/ical//2.0/EN
VERSION:2.0
CALSCALE:GREGORIAN
BEGIN:VEVENT
UID:6a2e84b6986b3cc18a098358c602814e
DTSTAMP:20260420T093409Z
SUMMARY:Film screening: "Korczak"
DESCRIPTION:Jewish Federation of the Berkshires\nBerkshire Jewish Community
  Calendar\nhttps://jewishberkshires.org/jewish-federation-of-the-berkshire
 s-calendar/screening-of-1990-film-korczak\n\nThe Jewish Federation Connect
 ing with Community will screen the 1990 film Korczak\, directed by Andrzej
  Wajda.
DTSTART;TZID=America/New_York:20180913T104500
DTEND;TZID=America/New_York:20180913T134500
END:VEVENT
END:VCALENDAR
