BEGIN:VCALENDAR
PRODID:-//eluceo/ical//2.0/EN
VERSION:2.0
CALSCALE:GREGORIAN
BEGIN:VEVENT
UID:986d6c3e13c67d86c36c6b1e97b919e5
DTSTAMP:20260420T230558Z
SUMMARY:Get the Scoop...Jewish Community Day at High Lawn Farm
DESCRIPTION:Jewish Federation of the Berkshires\nBerkshire Jewish Community
  Calendar\nhttps://jewishberkshires.org/jewish-federation-of-the-berkshire
 s-calendar/scoop\n\nThe Jewish Federation is kicking off our 2022 Communit
 y Campaign at High Lawn Farm with fun for everyone! Meet old friends\, 
 make new friends\, learn more about our Berkshire Jewish Community and enj
 oy free homemade ice cream while supplies last. \n\nYou can also take a b
 ehind-the-scenes tour of the baby calves and on-demand robotic milking roo
 m\, visit the historic museum\, pet the cows and check out their waterbeds
 \, enjoy the baby animal petting zoo\, join in barnyard yoga\, visit the a
 rtisan...
DTSTART;TZID=America/New_York:20220612T020000
DTEND;TZID=America/New_York:20220612T160000
END:VEVENT
END:VCALENDAR
