BEGIN:VCALENDAR
PRODID:-//eluceo/ical//2.0/EN
VERSION:2.0
CALSCALE:GREGORIAN
BEGIN:VEVENT
UID:0bf540061b69d5bee9ea306e9821bb40
DTSTAMP:20260422T031821Z
SUMMARY:Scholar-in-Residence Shabbaton  with Rabbi Yonah Berman
DESCRIPTION:Jewish Federation of the Berkshires\nBerkshire Jewish Community
  Calendar\nhttps://jewishberkshires.org/jewish-federation-of-the-berkshire
 s-calendar/scholar-in-residence-shabbaton--with-rabbi-yonah-berman-1463584
 468\n\n9 am: Torah Study & Breakfast\n10 am: Shabbat Service\n12 pm: Kiddu
 sh Lunch & Discussion:\nDenominationalism Today\, Denominationalism Tomorr
 ow?\nAn Orthodox Rabbi walked into a Reform Synagogue… Sounds like the s
 tart of a good story. It’s the story of this year’s Scholar-in-Residen
 ce Shabbaton. Join us over Shabbat as we learn with Rabbi Berman\, Directo
 r of Recruitment and Associate Director of Practical Rabbinics\, Yeshivat 
 Chovevei Torah Rabbinical School In Riverdale\, New York. Rav Yo...
DTSTART;TZID=America/New_York:20160716T090000
DTEND;TZID=America/New_York:20160716T130000
END:VEVENT
END:VCALENDAR
