BEGIN:VCALENDAR
PRODID:-//eluceo/ical//2.0/EN
VERSION:2.0
CALSCALE:GREGORIAN
BEGIN:VEVENT
UID:8f38f4f1209df9eb095dc035f10f5bc7
DTSTAMP:20260423T191157Z
SUMMARY:Scenes from the Collection
DESCRIPTION:Jewish Federation of the Berkshires\nBerkshire Jewish Community
  Calendar\nhttps://jewishberkshires.org/jewish-federation-of-the-berkshire
 s-calendar/scenes-from-the-collection-1702047554\n\nFirst of the three tou
 rs\, "Scenes of the Collection"  selections from the Jewish Museum's rotat
 ing collection. \nFor reservations and information visit:  www.ahavathshol
 om.com
DTSTART;TZID=America/New_York:20240128T160000
DTEND;TZID=America/New_York:20240128T170000
END:VEVENT
END:VCALENDAR
