BEGIN:VCALENDAR
PRODID:-//eluceo/ical//2.0/EN
VERSION:2.0
CALSCALE:GREGORIAN
BEGIN:VEVENT
UID:1d24e13112cf5945f85252f1082d9e1b
DTSTAMP:20260425T205820Z
SUMMARY:When Women Ran Fifth Ave: Glamour & Power at the Dawn of American F
 ashion
DESCRIPTION:Jewish Federation of the Berkshires\nBerkshire Jewish Community
  Calendar\nhttps://jewishberkshires.org/jewish-federation-of-the-berkshire
 s-calendar/save-the-date-jewish-literary-voices-series-9\n\nVia Zoom.  Re
 gister HERE.\n\nJewish Literary Voices: A Federation Series in collaborati
 on with The Jewish Book Council\n\nIn When Women Ran Fifth Avenue\, award-
 winning journalist and author of The Plaza Julie Satow chronicles the rise
  of the department store through dazzling portraits of three visionary wom
 en who took great risks\, forging new paths for the women who followed in 
 their footsteps. This stylish account\, rich with personal drama and trade
  secrets\, captures the department store in...
DTSTART;TZID=America/New_York:20250327T190000
DTEND;TZID=America/New_York:20250327T200000
END:VEVENT
END:VCALENDAR
