BEGIN:VCALENDAR
PRODID:-//eluceo/ical//2.0/EN
VERSION:2.0
CALSCALE:GREGORIAN
BEGIN:VEVENT
UID:e3d34ef5987e0fca5f7747b532f607a7
DTSTAMP:20260425T222530Z
SUMMARY:Bernardine’s Shanghai Salon: The Story of the Doyenne of Old Chin
 a
DESCRIPTION:Jewish Federation of the Berkshires\nBerkshire Jewish Community
  Calendar\nhttps://jewishberkshires.org/jewish-federation-of-the-berkshire
 s-calendar/save-the-date-jewish-literary-voices-series-6\n\nVia Zoom.  Re
 gister HERE.\n\nJewish Literary Voices: A Federation Series in collaborati
 on with The Jewish Book Council\n\nBernardine Szold Fritz arrived in Shang
 hai in 1929 to marry her fourth husband. Only thirty-three years old\, she
  found herself in a time and place like no other. Yet from the night of th
 eir wedding\, Bernardine’s new husband did not live up to his promises. 
 Instead of feeling sorry for herself or leaving Shanghai\, Bernardine deci
 ded to make a place for herself.\n\nLike o...
DTSTART;TZID=America/New_York:20250130T190000
DTEND;TZID=America/New_York:20250130T200000
END:VEVENT
END:VCALENDAR
