BEGIN:VCALENDAR
PRODID:-//eluceo/ical//2.0/EN
VERSION:2.0
CALSCALE:GREGORIAN
BEGIN:VEVENT
UID:4367cf1d5b6639a40816cefa4a1b6182
DTSTAMP:20260420T094523Z
SUMMARY:Jazz: How Duke Ellington\, Louis Armstrong \, Count Basie Transform
 ed America
DESCRIPTION:Jewish Federation of the Berkshires\nBerkshire Jewish Community
  Calendar\nhttps://jewishberkshires.org/jewish-federation-of-the-berkshire
 s-calendar/save-the-date-jewish-literary-voices-series-5\n\nVia Zoom.  Re
 gister HERE.\n\nJewish Literary Voices: A Federation Series in collaborati
 on with The Jewish Book Council\n\nHonoring the life and accomplishments o
 f MLK and other civil rights changemakers\, join reporter Larry Tye for a 
 discussion of his book\, The Jazzmen which looks mainly at these three mae
 stros’ lives off the bandstand\, and how they wrote the soundtrack for t
 he civil rights revolution. It also explores the Black-Jewish alliance of 
 old—one where each of these African-Amer...
DTSTART;TZID=America/New_York:20250116T104500
DTEND;TZID=America/New_York:20250116T120000
END:VEVENT
END:VCALENDAR
