BEGIN:VCALENDAR
PRODID:-//eluceo/ical//2.0/EN
VERSION:2.0
CALSCALE:GREGORIAN
BEGIN:VEVENT
UID:1e64a443193093ff7964fed89857a188
DTSTAMP:20260422T050023Z
SUMMARY:Sarge in the Berkshires
DESCRIPTION:Jewish Federation of the Berkshires\nBerkshire Jewish Community
  Calendar\nhttps://jewishberkshires.org/jewish-federation-of-the-berkshire
 s-calendar/sarge-in-the-berkshires-1724719319\n\nEnjoy comedian and Jullia
 rd trained SARGE. Sarge delights audiences with humor that continues to re
 sonate with audiences all over the world. Much more than a comedian\, Sarg
 e is a self-taught piano savant\, an author\, and motivational speaker. Hi
 s humor comes from a very personal place and touches the hearts and minds 
 of people everywhere. This is a benefit concert sponsored by the Jewish Wo
 men's Foundation of the Berkshires. All proceeds will be donated towards a
 ddressing unmet needs of the Be...
DTSTART;TZID=America/New_York:20240922T160000
DTEND;TZID=America/New_York:20240922T180000
END:VEVENT
END:VCALENDAR
