BEGIN:VCALENDAR
PRODID:-//eluceo/ical//2.0/EN
VERSION:2.0
CALSCALE:GREGORIAN
BEGIN:VEVENT
UID:f08e033751eb07c57dccaf0144c9e088
DTSTAMP:20260420T044141Z
SUMMARY:Sarah Aroeste in Concert 
DESCRIPTION:Jewish Federation of the Berkshires\nBerkshire Jewish Community
  Calendar\nhttps://jewishberkshires.org/jewish-federation-of-the-berkshire
 s-calendar/sarah-aroeste-in-concert-1436371238\n\nSarah Aroeste\, inspired
  by her family's Sephardic roots in Greece and Macedonia\, has spent the l
 ast 10 years bringing her contemporary style of original and traditional L
 adino music to audiences around the world. Her style combines traditional 
 Mediterranean Sephardic sounds with contemporary influences such as rock\,
  funk\, pop\, and blues. She is also one of the few Ladino artists who wri
 tes her own music. Sarah will perform with her trio - don't miss this exci
 ting concert! Tickets are $18 in a...
DTSTART;TZID=America/New_York:20150722T193000
DTEND;TZID=America/New_York:20150722T213000
END:VEVENT
END:VCALENDAR
