BEGIN:VCALENDAR
PRODID:-//eluceo/ical//2.0/EN
VERSION:2.0
CALSCALE:GREGORIAN
BEGIN:VEVENT
UID:b49fffdf3d7ea32965d66c3ba6bd8feb
DTSTAMP:20260419T235231Z
SUMMARY:Sar-el: A Way to Volunteer in Israel
DESCRIPTION:Jewish Federation of the Berkshires\nBerkshire Jewish Community
  Calendar\nhttps://jewishberkshires.org/jewish-federation-of-the-berkshire
 s-calendar/sar-el-a-way-to-volunteer-in-israel\n\nThe Jewish Federation of
  the Berkshires Connecting with Community presents  "Sar-el: A Way to Volu
 nteer in Israel" with Martin Silver.
DTSTART;TZID=America/New_York:20160218T104500
DTEND;TZID=America/New_York:20160218T120000
END:VEVENT
END:VCALENDAR
