BEGIN:VCALENDAR
PRODID:-//eluceo/ical//2.0/EN
VERSION:2.0
CALSCALE:GREGORIAN
BEGIN:VEVENT
UID:95e3375be18734e1eaca51944c5d445c
DTSTAMP:20260420T013453Z
SUMMARY:S. Y. Agnon: his life and writing
DESCRIPTION:Jewish Federation of the Berkshires\nBerkshire Jewish Community
  Calendar\nhttps://jewishberkshires.org/jewish-federation-of-the-berkshire
 s-calendar/s-y-agnon-his-life-and-writing-1433454564\n\nS.Y. Agnon\,  Shmu
 el Yosef "Shai" Agnon (1888-1970)\, was a prolific novelist and short-stor
 y writer.  He won the 1966 Nobel Prize for Literature.  He was also awarde
 d the Israel and Bialik Prizes.  The Nobel Prize was awarded to Agnon for 
 his profoundly characteristic narrative of the Jewish people.\nA wine and 
 cheese reception will follow the program.  All are welcome.  A contributio
 n of $10 is requested.
DTSTART;TZID=America/New_York:20150615T190000
DTEND;TZID=America/New_York:20150615T203000
END:VEVENT
END:VCALENDAR
