BEGIN:VCALENDAR
PRODID:-//eluceo/ical//2.0/EN
VERSION:2.0
CALSCALE:GREGORIAN
BEGIN:VEVENT
UID:2294776d666d2610e0ab45e27e2f97b5
DTSTAMP:20260421T212827Z
SUMMARY:Ruth Bass on Fictionalizing Her Grandmother's Life
DESCRIPTION:Jewish Federation of the Berkshires\nBerkshire Jewish Community
  Calendar\nhttps://jewishberkshires.org/jewish-federation-of-the-berkshire
 s-calendar/ruth-bass-on-fictionalizing-her-grandmothers-life\n\nThe Jewish
  Federation of the Berkshires' Connecting with Community presents columnis
 t and novelist Ruth Bass.
DTSTART;TZID=America/New_York:20160114T104500
DTEND;TZID=America/New_York:20160114T120000
END:VEVENT
END:VCALENDAR
