BEGIN:VCALENDAR
PRODID:-//eluceo/ical//2.0/EN
VERSION:2.0
CALSCALE:GREGORIAN
BEGIN:VEVENT
UID:99481684728ad6f2560c8eb81c7ad894
DTSTAMP:20260420T031211Z
SUMMARY:Hate crimes\, history and banning books: we're better than this-but
  are we?
DESCRIPTION:Jewish Federation of the Berkshires\nBerkshire Jewish Community
  Calendar\nhttps://jewishberkshires.org/jewish-federation-of-the-berkshire
 s-calendar/ruth-bass-novelist-travel-writer-and-newspaper-columnist\n\nPle
 ase note: Proof of vaccination for those eligible is required.  Masks are
  optional but encouraged.\n\nDrawing on her perspective as a long-time jou
 rnalist\, editor\, and novelist Ruth Bass will examine the timely issues l
 inking the rise of hate crimes with the burning of books and the role of s
 ocial media.  Although the manifestation of hatred through the banning or
  destruction of literature is not new\, digital media creates new opportun
 ities and challenges for the free exchange of ideas. ...
DTSTART;TZID=America/New_York:20220630T104500
DTEND;TZID=America/New_York:20220630T120000
END:VEVENT
END:VCALENDAR
