BEGIN:VCALENDAR
PRODID:-//eluceo/ical//2.0/EN
VERSION:2.0
CALSCALE:GREGORIAN
BEGIN:VEVENT
UID:250ef9bf2fbb709e3dd876c5d54a8d8f
DTSTAMP:20260424T093108Z
SUMMARY:Rugelach and Babka  Workshop
DESCRIPTION:Jewish Federation of the Berkshires\nBerkshire Jewish Community
  Calendar\nhttps://jewishberkshires.org/jewish-federation-of-the-berkshire
 s-calendar/rugelach-and-babka--workshop-1490288353\n\nHave you ever wonder
 ed how your grandmother made the most delicious rugelach and babka? Do you
  remember the wonderful aromas in the kitchen when she baked? Do you think
  it is too complicated to make babka and rugelach?\nCome learn how to make
  rugelach and babka  and enjoy a tasting!
DTSTART;TZID=America/New_York:20170706T130000
DTEND;TZID=America/New_York:20170706T143000
END:VEVENT
END:VCALENDAR
