BEGIN:VCALENDAR
PRODID:-//eluceo/ical//2.0/EN
VERSION:2.0
CALSCALE:GREGORIAN
BEGIN:VEVENT
UID:4c6b0dd367d4ff17b8d3c78e3be162dc
DTSTAMP:20260420T124136Z
SUMMARY:Rites of Passage:  An Afternoon of Short (mostly) Comic Plays
DESCRIPTION:Jewish Federation of the Berkshires\nBerkshire Jewish Community
  Calendar\nhttps://jewishberkshires.org/jewish-federation-of-the-berkshire
 s-calendar/rites-of-passage--an-afternoon-of-short-mostly-comic-plays\n\nR
 ites of Passage: An Afternoon of Staged Readings
DTSTART;TZID=America/New_York:20131020T140000
DTEND;TZID=America/New_York:20131020T170000
END:VEVENT
END:VCALENDAR
