BEGIN:VCALENDAR
PRODID:-//eluceo/ical//2.0/EN
VERSION:2.0
CALSCALE:GREGORIAN
BEGIN:VEVENT
UID:4729867c8f5a63e2bca99ce03168f8d3
DTSTAMP:20260422T103245Z
SUMMARY:RIMON:The Ecological Wisdom of Torah
DESCRIPTION:Jewish Federation of the Berkshires\nBerkshire Jewish Community
  Calendar\nhttps://jewishberkshires.org/jewish-federation-of-the-berkshire
 s-calendar/rimonthe-ecological-wisdom-of-torah\n\nRIMON:Ecological Wisdom 
 of Torah
DTSTART;TZID=America/New_York:20130113T133000
DTEND;TZID=America/New_York:20130113T150000
END:VEVENT
END:VCALENDAR
