BEGIN:VCALENDAR
PRODID:-//eluceo/ical//2.0/EN
VERSION:2.0
CALSCALE:GREGORIAN
BEGIN:VEVENT
UID:d54be03fe1cebde911cac4d0f667325b
DTSTAMP:20260421T052605Z
SUMMARY:RIMON:Spiritual Views on Death and the Afterlife
DESCRIPTION:Jewish Federation of the Berkshires\nBerkshire Jewish Community
  Calendar\nhttps://jewishberkshires.org/jewish-federation-of-the-berkshire
 s-calendar/rimonspiritual-views-on-death-and-the-afterlife\n\nRIMON:Spirit
 ual Views on Death and the Afterlife
DTSTART;TZID=America/New_York:20130203T133000
DTEND;TZID=America/New_York:20130203T160000
END:VEVENT
END:VCALENDAR
