BEGIN:VCALENDAR
PRODID:-//eluceo/ical//2.0/EN
VERSION:2.0
CALSCALE:GREGORIAN
BEGIN:VEVENT
UID:c885081c9c097e9f450b8e6662a5748e
DTSTAMP:20260421T184426Z
SUMMARY:Rimon's Musical and Contemplative Kabbalat Shabbat
DESCRIPTION:Jewish Federation of the Berkshires\nBerkshire Jewish Community
  Calendar\nhttps://jewishberkshires.org/jewish-federation-of-the-berkshire
 s-calendar/rimons-musical-and-contemplative-kabbalat-shabbat-1430754299\n\
 nJoin Rabba Kaya Stern-Kaufman for\nA Musical and Contemplative Kabbalat S
 habbat Service\nand Community Vegetarian Pot-Luck Shabbat Dinner\n\nALL AR
 E WELCOME!\nPlease Note: All dishes must be vegetarian and appropriate to 
 be served at room temp. \nService begins promptly at 7:00pm.\nDonations ar
 e appreciated to cover the costs of the event.
DTSTART;TZID=America/New_York:20150828T190000
DTEND;TZID=America/New_York:20150828T213000
END:VEVENT
END:VCALENDAR
