BEGIN:VCALENDAR
PRODID:-//eluceo/ical//2.0/EN
VERSION:2.0
CALSCALE:GREGORIAN
BEGIN:VEVENT
UID:c4bb9b04db215cfd4d61a7cb14b7090b
DTSTAMP:20260420T080009Z
SUMMARY:Rimon's Musical and Contemplative Kabbalat Shabbat 
DESCRIPTION:Jewish Federation of the Berkshires\nBerkshire Jewish Community
  Calendar\nhttps://jewishberkshires.org/jewish-federation-of-the-berkshire
 s-calendar/rimons-musical-and-contemplative-kabbalat-shabbat-1430752742\n\
 nJoin Rabba Kaya Stern-Kaufman and Reb SHir Yaakov Feit for this musical a
 nd contemplative Kabbalat Shabbat Service\nand Community Vegetarian Pot-Lu
 ck Shabbat Dinner\nWith Special guest Carol Emmanuel on harp.\nPlease note
 : All dishes must be vegetarian and appropriate to be served at room temp.
  \nService begins promptly at 7:00pm.\nWe appreciate donations to help cov
 er the costs of the event.
DTSTART;TZID=America/New_York:20150529T190000
DTEND;TZID=America/New_York:20150529T213000
END:VEVENT
END:VCALENDAR
