BEGIN:VCALENDAR
PRODID:-//eluceo/ical//2.0/EN
VERSION:2.0
CALSCALE:GREGORIAN
BEGIN:VEVENT
UID:6832f9983d220813751abb9ea25ded38
DTSTAMP:20260422T133856Z
SUMMARY:Rimon's Eco-Tefilah Prayer Hike
DESCRIPTION:Jewish Federation of the Berkshires\nBerkshire Jewish Community
  Calendar\nhttps://jewishberkshires.org/jewish-federation-of-the-berkshire
 s-calendar/rimons-eco-tefilah-prayer-hike-1430755324\n\nAt 9:30 AM on  Aug
 . 16 and Aug. 30 \, Rimon will offer opportunities to welcome the morning 
 through prayer- hikes in the beautiful Berkshire hills led by Rabba Kaya S
 tern-Kaufman.\nAll Eco-Tefila prayer hikes will be gentle. An alternative 
 siddur designed for this hike will be provided. \nPlease bring bug spray a
 nd water.\nThere is no fee. Donations are appreciated to support our progr
 ams. All are welcome.\nFor more information including locations and direct
 ions of prayer hikes and to RSVP\,...
DTSTART;TZID=America/New_York:20150816T093000
DTEND;TZID=America/New_York:20150816T113000
END:VEVENT
END:VCALENDAR
