BEGIN:VCALENDAR
PRODID:-//eluceo/ical//2.0/EN
VERSION:2.0
CALSCALE:GREGORIAN
BEGIN:VEVENT
UID:a722a33edfba495efc8b1a50d6c2c348
DTSTAMP:20260419T153901Z
SUMMARY:Rimon:Mystical Torah Study
DESCRIPTION:Jewish Federation of the Berkshires\nBerkshire Jewish Community
  Calendar\nhttps://jewishberkshires.org/jewish-federation-of-the-berkshire
 s-calendar/rimonmystical-torah-study\n\nRimon: Mystical Torah Study
DTSTART;TZID=America/New_York:20130605T190000
DTEND;TZID=America/New_York:20130605T200000
END:VEVENT
END:VCALENDAR
