BEGIN:VCALENDAR
PRODID:-//eluceo/ical//2.0/EN
VERSION:2.0
CALSCALE:GREGORIAN
BEGIN:VEVENT
UID:41fd44530f4dd85cca8715ff33e1d4ca
DTSTAMP:20260423T013305Z
SUMMARY:Rimon Lag BaOmer Bonfire
DESCRIPTION:Jewish Federation of the Berkshires\nBerkshire Jewish Community
  Calendar\nhttps://jewishberkshires.org/jewish-federation-of-the-berkshire
 s-calendar/rimon-lag-baomer-bonfire\n\nRimon Lag Baomer Bonfire
DTSTART;TZID=America/New_York:20130427T200000
DTEND;TZID=America/New_York:20130427T233000
END:VEVENT
END:VCALENDAR
