BEGIN:VCALENDAR
PRODID:-//eluceo/ical//2.0/EN
VERSION:2.0
CALSCALE:GREGORIAN
BEGIN:VEVENT
UID:0963c5dbf47bfee6ca3d0cc99919d7d2
DTSTAMP:20260419T171316Z
SUMMARY:Rimon: Eco-Tefilah Prayer Hikes
DESCRIPTION:Jewish Federation of the Berkshires\nBerkshire Jewish Community
  Calendar\nhttps://jewishberkshires.org/jewish-federation-of-the-berkshire
 s-calendar/rimon-eco-tefilah-prayer-hikes\n\nRimon: Eco-Tefilah Prayer Hik
 es
DTSTART;TZID=America/New_York:20130603T093000
DTEND;TZID=America/New_York:20130603T110000
END:VEVENT
END:VCALENDAR
