BEGIN:VCALENDAR
PRODID:-//eluceo/ical//2.0/EN
VERSION:2.0
CALSCALE:GREGORIAN
BEGIN:VEVENT
UID:f5e3ef4da9008de4e89f61dfc158c406
DTSTAMP:20260422T141633Z
SUMMARY:RESTORATION: Anti-Semitism in France
DESCRIPTION:Jewish Federation of the Berkshires\nBerkshire Jewish Community
  Calendar\nhttps://jewishberkshires.org/jewish-federation-of-the-berkshire
 s-calendar/restoration-anti-semitism-in-france-1545923896\n\nTwo 1-act pla
 ys written by Jesse Waldinger\n\nCo-sponsoring this performance with Templ
 e Anshe Amunim.\n\nTickets $15.00
DTSTART;TZID=America/New_York:20190915T140000
DTEND;TZID=America/New_York:20190915T160000
END:VEVENT
END:VCALENDAR
