BEGIN:VCALENDAR
PRODID:-//eluceo/ical//2.0/EN
VERSION:2.0
CALSCALE:GREGORIAN
BEGIN:VEVENT
UID:3ca7267dee1397b8b22a8061b25c7686
DTSTAMP:20260422T002914Z
SUMMARY:Resilience and Renewal: Forging the Jewish Future
DESCRIPTION:Jewish Federation of the Berkshires\nBerkshire Jewish Community
  Calendar\nhttps://jewishberkshires.org/jewish-federation-of-the-berkshire
 s-calendar/resilience-renewal-forging-jewish-future\n\nJoin educator\, wri
 ter and advocate\, Aviva Klompas for a “Jewish state of the union for ou
 r time\, offering language and frameworks to help communities process the 
 last two years—a period marked by war\, rising antisemitism\, heartbreak
 \, and profound uncertainty—and reflections on how we can summon the cou
 rage to meet this moment.\n\nAviva is co-founder and CEO of Boundless and 
 former Director of Speechwriting for Israel’s Permanent Mission to the U
 nited Nations.  Boundless partners with...
DTSTART;TZID=America/New_York:20260312T190000
DTEND;TZID=America/New_York:20260312T203000
END:VEVENT
END:VCALENDAR
