BEGIN:VCALENDAR
PRODID:-//eluceo/ical//2.0/EN
VERSION:2.0
CALSCALE:GREGORIAN
BEGIN:VEVENT
UID:18dae9c88ac16f77b02e683bb186db2b
DTSTAMP:20260424T134712Z
SUMMARY:Canceled: Replicating the Gwozdziec Wooden Synagogue
DESCRIPTION:Jewish Federation of the Berkshires\nBerkshire Jewish Community
  Calendar\nhttps://jewishberkshires.org/jewish-federation-of-the-berkshire
 s-calendar/replicating-the-gwozdziec-wooden-synagogue\n\nHandhouse Studio 
 and the Association of the Jewish Historical Institute collaborated to rep
 licate the 17th century Gwozdziec Synagogue roof and painted ceiling
DTSTART;TZID=America/New_York:20200612T104500
DTEND;TZID=America/New_York:20200612T130000
END:VEVENT
END:VCALENDAR
