BEGIN:VCALENDAR
PRODID:-//eluceo/ical//2.0/EN
VERSION:2.0
CALSCALE:GREGORIAN
BEGIN:VEVENT
UID:2cd88ea76c09122d2a455e94be28246d
DTSTAMP:20260425T032000Z
SUMMARY:Refugee Resettlement\, Exploring an Ethic of Hospitality
DESCRIPTION:Jewish Federation of the Berkshires\nBerkshire Jewish Community
  Calendar\nhttps://jewishberkshires.org/jewish-federation-of-the-berkshire
 s-calendar/refugee-resettlement-exploring-an-ethic-of-hospitality\n\nThe J
 ewish Federation Connecting with Community program presents Refugee Resett
 lement\, Exploring an Ethic of Hospitality with Deirdre Griffin\, Director
  of the New American Programs at Jewish Family Service of Western MA in Sp
 ringfield.
DTSTART;TZID=America/New_York:20160811T104500
DTEND;TZID=America/New_York:20160811T120000
END:VEVENT
END:VCALENDAR
