BEGIN:VCALENDAR
PRODID:-//eluceo/ical//2.0/EN
VERSION:2.0
CALSCALE:GREGORIAN
BEGIN:VEVENT
UID:085824aba89acfabf19314c4a84625f2
DTSTAMP:20260422T011445Z
SUMMARY:Reform-ing Israel: HUC-JIR and Progressive Judaism Today
DESCRIPTION:Jewish Federation of the Berkshires\nBerkshire Jewish Community
  Calendar\nhttps://jewishberkshires.org/jewish-federation-of-the-berkshire
 s-calendar/reform-ing-israel-huc-jir-and-progressive-judaism-today-1720752
 287\n\nThis event is part of "HUC-JIR in the Berkshires" programming.\n\nM
 eet Nachman Shai\, Ph.D.\, former Israeli Minister of Diaspora Affairs and
  new dean of the HUC-JIR Taube Family\nCampus in Jerusalem. Shai\, in a co
 nversation with HUC-JIR President Andrew Rehfeld\, Ph.D.\, will discuss th
 e current cultural and political moment in Israeli society – and the pot
 ential contributions of HUC-JIR and progressive Judaism to its reinvention
 . Moderated by HUC-JIR Provost Rabbi Andrea Weiss\, Ph.D.
DTSTART;TZID=America/New_York:20240728T123000
DTEND;TZID=America/New_York:20240728T140000
END:VEVENT
END:VCALENDAR
