BEGIN:VCALENDAR
PRODID:-//eluceo/ical//2.0/EN
VERSION:2.0
CALSCALE:GREGORIAN
BEGIN:VEVENT
UID:319daaff0394ef076c03087269196c61
DTSTAMP:20260422T102755Z
SUMMARY:Reflections Of A Life
DESCRIPTION:Jewish Federation of the Berkshires\nBerkshire Jewish Community
  Calendar\nhttps://jewishberkshires.org/jewish-federation-of-the-berkshire
 s-calendar/reflections-of-a-life\n\nThe Jewish Federation Connecting with 
 Community presents memoirist Jay Zeif as he shares his journey of writing 
 "From Buddy to Bebop: Reflections of a Life."
DTSTART;TZID=America/New_York:20171218T104500
DTEND;TZID=America/New_York:20171218T120000
END:VEVENT
END:VCALENDAR
