BEGIN:VCALENDAR
PRODID:-//eluceo/ical//2.0/EN
VERSION:2.0
CALSCALE:GREGORIAN
BEGIN:VEVENT
UID:9aa09dfbf0153f3a523e66f885faa531
DTSTAMP:20260420T151453Z
SUMMARY:Recognizing the Good: A Pre-Thanksgiving Exploration of Gratitude
DESCRIPTION:Jewish Federation of the Berkshires\nBerkshire Jewish Community
  Calendar\nhttps://jewishberkshires.org/jewish-federation-of-the-berkshire
 s-calendar/recognizing-the-good-a-pre-thanksgiving-exploration-of-gratitud
 e-1726756370\n\nRabbi Pam Wax\, Director of Adult Education and Programmin
 g at Congregation Knesset Israel\, will offer a pre-Thanksgiving explorati
 on of gratitude in Jewish text and practice. This will be a hybrid class--
 join us in person at Knesset Israel or via Zoom. Register at https://www.k
 nessetisrael.org/rsvp
DTSTART;TZID=America/New_York:20241118T190000
DTEND;TZID=America/New_York:20241118T203000
END:VEVENT
END:VCALENDAR
