BEGIN:VCALENDAR
PRODID:-//eluceo/ical//2.0/EN
VERSION:2.0
CALSCALE:GREGORIAN
BEGIN:VEVENT
UID:bfe9a78a3090ac2309ef889eb9b07e39
DTSTAMP:20260420T062543Z
SUMMARY:Ramblin' with the Rav: The Father Loop at Alford Springs
DESCRIPTION:Jewish Federation of the Berkshires\nBerkshire Jewish Community
  Calendar\nhttps://jewishberkshires.org/jewish-federation-of-the-berkshire
 s-calendar/ramblin-with-the-rav-the-father-loop-at-alford-springs-17418735
 69\n\nA moderate hike\, 4.3 miles long and 784 vertical feet of ascent\, o
 ver 2-2.5 hours.
DTSTART;TZID=America/New_York:20251012T100000
DTEND;TZID=America/New_York:20251012T120000
END:VEVENT
END:VCALENDAR
