BEGIN:VCALENDAR
PRODID:-//eluceo/ical//2.0/EN
VERSION:2.0
CALSCALE:GREGORIAN
BEGIN:VEVENT
UID:008ff94c607fa3e05b8deb5b6c72bc89
DTSTAMP:20260421T231435Z
SUMMARY:Ramblin' with the Rav: Hand Hollow
DESCRIPTION:Jewish Federation of the Berkshires\nBerkshire Jewish Community
  Calendar\nhttps://jewishberkshires.org/jewish-federation-of-the-berkshire
 s-calendar/ramblin-with-the-rav-hand-hollow-1680615681\n\nJoin Rabbi David
  Weiner for a moderately paced walk\, a little Torah\, and good company. R
 egistration required. More information upon registration. A short but char
 ming walk around a nature preserve with meadows\, woods\, a stream\, and s
 cenic ponds. Prepare for uneven surfaces. And - it’s April - plenty of m
 ud! Leashed dogs are welcome. (easy\, 3.5 miles\, 328’\, 1.5 hours)
DTSTART;TZID=America/New_York:20230423T100000
DTEND;TZID=America/New_York:20230423T113000
END:VEVENT
END:VCALENDAR
