BEGIN:VCALENDAR
PRODID:-//eluceo/ical//2.0/EN
VERSION:2.0
CALSCALE:GREGORIAN
BEGIN:VEVENT
UID:59bdb7429b9853663f3d33f1444cc17f
DTSTAMP:20260422T140322Z
SUMMARY:Ramblin with the Rav: Gould Trail
DESCRIPTION:Jewish Federation of the Berkshires\nBerkshire Jewish Community
  Calendar\nhttps://jewishberkshires.org/jewish-federation-of-the-berkshire
 s-calendar/ramblin-with-the-rav-gould-trail-1680615955\n\nJoin Rabbi David
  Weiner for a moderately paced\, strenuous hike\, a little Torah\, and goo
 d company. Registration required. More information upon registration. Cele
 brate Shavuot early by ascending the mountain! Rabbi Weiner will lead a gr
 oup up and down the curvy\, heavily wooded Gould Trail. This is a steep an
 d relentless ascent - shorter than climbing the mountain from the Williams
 town side but still demanding. It is only suitable for people with strong 
 knees\, ankles\, and hearts and some confid...
DTSTART;TZID=America/New_York:20230528T100000
DTEND;TZID=America/New_York:20230528T130000
END:VEVENT
END:VCALENDAR
