BEGIN:VCALENDAR
PRODID:-//eluceo/ical//2.0/EN
VERSION:2.0
CALSCALE:GREGORIAN
BEGIN:VEVENT
UID:a340ef848257dda5710f67c93fc89717
DTSTAMP:20260422T131606Z
SUMMARY:Ramblin with the Rav: Azeleas
DESCRIPTION:Jewish Federation of the Berkshires\nBerkshire Jewish Community
  Calendar\nhttps://jewishberkshires.org/jewish-federation-of-the-berkshire
 s-calendar/ramblin-with-the-rav-azeleas-1680616208\n\nJoin Rabbi David Wei
 ner for a moderately paced\, moderately strenuous hike\, a little Torah\, 
 and good company. Registration required. More information available upon r
 egistration. A steady but manageable climb next to Lulu Brook\, then on to
  experience the wild azaleas in full bloom (if we're lucky) and the stunni
 ng view of the Catskills. Lots of mud on the trail! We’ll pause for a sn
 ack by Berry Pond\, then descend by the gradual Turner Trail.5.25 miles\, 
 950’ elevation gain\, 3-3.5 hours. Rai...
DTSTART;TZID=America/New_York:20230604T100000
DTEND;TZID=America/New_York:20230604T133000
END:VEVENT
END:VCALENDAR
