BEGIN:VCALENDAR
PRODID:-//eluceo/ical//2.0/EN
VERSION:2.0
CALSCALE:GREGORIAN
BEGIN:VEVENT
UID:d50461488f91aa81d53c138935d1f95a
DTSTAMP:20260423T160854Z
SUMMARY:Ramblin' with the Rav
DESCRIPTION:Jewish Federation of the Berkshires\nBerkshire Jewish Community
  Calendar\nhttps://jewishberkshires.org/jewish-federation-of-the-berkshire
 s-calendar/ramblin-with-the-rav-1710952444\n\nModerate hike\, 3.8 miles\, 
 807’\, 2+ hours\nA bucolic walk through bird-filled meadows around a pic
 turesque horse farm leads to a forested mountain trail. The cobble at the 
 top offers views over New York State and\, if the bears haven’t gotten t
 o them first\, plenty of wild blueberries. Descend through the meadows wit
 h a spectacular view of the Yokun Ridge. Be prepared for some mud and bugs
 . Leashed dogs are welcome.\nRain date Weds\, August 14. Registration requ
 ired at knessetisrael.org/RSVP
DTSTART;TZID=America/New_York:20240807T090000
DTEND;TZID=America/New_York:20240807T120000
END:VEVENT
END:VCALENDAR
