BEGIN:VCALENDAR
PRODID:-//eluceo/ical//2.0/EN
VERSION:2.0
CALSCALE:GREGORIAN
BEGIN:VEVENT
UID:f691134ff12895c436493006e1b23468
DTSTAMP:20260419T162200Z
SUMMARY:Ramblin' with the Rav - Berkshire High Road
DESCRIPTION:Jewish Federation of the Berkshires\nBerkshire Jewish Community
  Calendar\nhttps://jewishberkshires.org/jewish-federation-of-the-berkshire
 s-calendar/ramblin-with-the-rav--berkshire-high-road-1680104689\n\nJoin Ra
 bbi David Weiner for a great hike\, good company\, and a little Torah when
  we walk a portion of the Berkshire High Road\, one-way from Pleasant Vall
 ey Wildlife Sanctuary to Bousquet in Pittsfield. We'll descend through a m
 eadow to a stream crossing\, then climb alongside a cascading brook. This 
 hike is suitable for hikers who are physically prepared for a 5-mile hike 
 up and down a hill & in the woods. Pre-registration is required at knesset
 israel.org/RSVP.
DTSTART;TZID=America/New_York:20230625T100000
DTEND;TZID=America/New_York:20230625T140000
END:VEVENT
END:VCALENDAR
