BEGIN:VCALENDAR
PRODID:-//eluceo/ical//2.0/EN
VERSION:2.0
CALSCALE:GREGORIAN
BEGIN:VEVENT
UID:5a50339cedbbb88187767a8258c70e28
DTSTAMP:20260419T221807Z
SUMMARY:Ramblin' with the Rav - Warner Hill\, Dalton
DESCRIPTION:Jewish Federation of the Berkshires\nBerkshire Jewish Community
  Calendar\nhttps://jewishberkshires.org/jewish-federation-of-the-berkshire
 s-calendar/ramblin-with-the-rav---warner-hill-dalton-1710951924\n\nModerat
 e hike\, 4 miles (one way)\, 500’\, 2 hours OR 5.5 miles (one way)\, 625
 ’\, 2.5-3 hours\nThe Appalachian Trail climbs north from Blotz Rd (near 
 Sackett Reservoir) to Warner Hill\, where there is a great view\, then con
 tinues through the forest\, descending towards Dalton. The route includes 
 a lot of downhill hiking. Leashed dogs welcome.\nBefore we start out\, we 
 will decide whether we’ll stop at Grange Hall Rd. or continue to downtow
 n Dalton.\nRain date Weds\, July 17
DTSTART;TZID=America/New_York:20240710T090000
DTEND;TZID=America/New_York:20240710T120000
END:VEVENT
END:VCALENDAR
