BEGIN:VCALENDAR
PRODID:-//eluceo/ical//2.0/EN
VERSION:2.0
CALSCALE:GREGORIAN
BEGIN:VEVENT
UID:15013873a31d54474219c4adf759ec6e
DTSTAMP:20260419T162253Z
SUMMARY:Race Matters: Why Not Speak and Live the Truth in Love
DESCRIPTION:Jewish Federation of the Berkshires\nBerkshire Jewish Community
  Calendar\nhttps://jewishberkshires.org/jewish-federation-of-the-berkshire
 s-calendar/race-matters-why-not-speak-and-live-the-truth-in-love\n\n "Race
  Matters: Why Not Speak and Live the Truth in Love" with Reverend Sheila D
 . Sholes-Ross\, pastor of First Baptist Church of Pittsfield. 
DTSTART;TZID=America/New_York:20161020T104500
DTEND;TZID=America/New_York:20161020T120000
END:VEVENT
END:VCALENDAR
