BEGIN:VCALENDAR
PRODID:-//eluceo/ical//2.0/EN
VERSION:2.0
CALSCALE:GREGORIAN
BEGIN:VEVENT
UID:a582f161701497089c9e4479d847a8c8
DTSTAMP:20260424T024334Z
SUMMARY:Rabbis and Presidents meeting
DESCRIPTION:Jewish Federation of the Berkshires\nBerkshire Jewish Community
  Calendar\nhttps://jewishberkshires.org/jewish-federation-of-the-berkshire
 s-calendar/rabbis-and-presidents-meeting\n\nRabbis and Presidents meeting
DTSTART;TZID=America/New_York:20130314T193000
DTEND;TZID=America/New_York:20130314T213000
END:VEVENT
END:VCALENDAR
