BEGIN:VCALENDAR
PRODID:-//eluceo/ical//2.0/EN
VERSION:2.0
CALSCALE:GREGORIAN
BEGIN:VEVENT
UID:41140e2fb6b3a7e5df7befb731833f78
DTSTAMP:20260422T064911Z
SUMMARY:Rabbi Neil P.G. Hirsch's Installation
DESCRIPTION:Jewish Federation of the Berkshires\nBerkshire Jewish Community
  Calendar\nhttps://jewishberkshires.org/jewish-federation-of-the-berkshire
 s-calendar/rabbi-neil-pg-hirschs-installation-1436373630\n\nJoin us as we 
 celebrate the formal installation of Rabbi Neil P.G. Hirsch at Hevreh of S
 outhern Berkshire. Rabbi Eric Gurvis\, Senior Rabbi at Temple Shalom of Ne
 wton\, will install Rabbi Hirsch and offer a special D'var Torah in his ho
 nor. A celebratory oneg will immediately follow services.
DTSTART;TZID=America/New_York:20150821T193000
DTEND;TZID=America/New_York:20150821T213000
END:VEVENT
END:VCALENDAR
