BEGIN:VCALENDAR
PRODID:-//eluceo/ical//2.0/EN
VERSION:2.0
CALSCALE:GREGORIAN
BEGIN:VEVENT
UID:3bede5aa00a981793e733fde18c61c5d
DTSTAMP:20260422T011319Z
SUMMARY:Rabbi Nancy Fuchs Kreimer will discuss "Living in Two Civilizations
 "
DESCRIPTION:Jewish Federation of the Berkshires\nBerkshire Jewish Community
  Calendar\nhttps://jewishberkshires.org/jewish-federation-of-the-berkshire
 s-calendar/rabbi-nancy-fuchs-kreimer-will-discuss-living-in-two-civilizati
 ons-1467214079\n\nRabbi Nancy Fuchs Kreimer\, Ph.D is Professor and Direct
 or of Department of Multifaith Studies and Initiatives\; at the Reconstruc
 tionist Rabbinical College will discuss "Living in Two Civilizations: A Re
 constructionist Rabbi's Interfaith Journey."\n\nThe world of interfaith re
 lations has changed since Rabbi Kreimer began her journey in a Reconstruct
 ionist Hebrew School in the late 1950's. She teaches that multifaith engag
 ement can be a personal spiritual path that leads to deeper grounding in .
 ..
DTSTART;TZID=America/New_York:20160723T100000
DTEND;TZID=America/New_York:20160723T120000
END:VEVENT
END:VCALENDAR
