BEGIN:VCALENDAR
PRODID:-//eluceo/ical//2.0/EN
VERSION:2.0
CALSCALE:GREGORIAN
BEGIN:VEVENT
UID:b85604e45af79bc75f56e348769dbd91
DTSTAMP:20260420T022502Z
SUMMARY:Rabba Kaya Stern-Kaufman:Talmud of the Heart:
DESCRIPTION:Jewish Federation of the Berkshires\nBerkshire Jewish Community
  Calendar\nhttps://jewishberkshires.org/jewish-federation-of-the-berkshire
 s-calendar/rabba-kaya-stern-kaufmantalmud-of-the-heart-1575982844\n\nRegis
 ter by calling 413-445-4872 x. 16.  \nLeave your name\, identify the progr
 am and date(s). \nPay with cash or check (to Knesset Israel) at door.\n\n
DTSTART;TZID=America/New_York:20191216T190000
DTEND;TZID=America/New_York:20191216T203000
END:VEVENT
END:VCALENDAR
