BEGIN:VCALENDAR
PRODID:-//eluceo/ical//2.0/EN
VERSION:2.0
CALSCALE:GREGORIAN
BEGIN:VEVENT
UID:793cf731d97cdc7003843348c1e2b313
DTSTAMP:20260423T170111Z
SUMMARY:Purim Shpiel: The Whole Megillah!
DESCRIPTION:Jewish Federation of the Berkshires\nBerkshire Jewish Community
  Calendar\nhttps://jewishberkshires.org/jewish-federation-of-the-berkshire
 s-calendar/purim-spiel-the-whole-megillah\n\nThe Jewish Federation Connect
 ing with Community presents "Purim Shpiel: The Whole Megillah!."
DTSTART;TZID=America/New_York:20190321T104500
DTEND;TZID=America/New_York:20190321T120000
END:VEVENT
END:VCALENDAR
