BEGIN:VCALENDAR
PRODID:-//eluceo/ical//2.0/EN
VERSION:2.0
CALSCALE:GREGORIAN
BEGIN:VEVENT
UID:5c59e804b4d2480df0355ec7e34ad64b
DTSTAMP:20260420T235308Z
SUMMARY:Purim Shabbat Service and Dinner
DESCRIPTION:Jewish Federation of the Berkshires\nBerkshire Jewish Community
  Calendar\nhttps://jewishberkshires.org/jewish-federation-of-the-berkshire
 s-calendar/purim-shabbat-service-and-dinner-1518109366\n\nAll are invited 
 to an energetic Kabbalat Shabbat service at Temple followed by a festive d
 inner. Members of the TAA Religious School will host TAA Jeopardy and judg
 e our costume contest. Dinner is $18 per person for Temple members\, $27 p
 er person (general community)\, $6 for children under the age of 13 ($45 m
 aximum per family with children). Please RSVP by Thursday\, February 22\, 
 2018\, to the Temple Office.
DTSTART;TZID=America/New_York:20180302T173000
DTEND;TZID=America/New_York:20180302T193000
END:VEVENT
END:VCALENDAR
