BEGIN:VCALENDAR
PRODID:-//eluceo/ical//2.0/EN
VERSION:2.0
CALSCALE:GREGORIAN
BEGIN:VEVENT
UID:3fcb30754fc755fa0bc99a4f2baa3cfa
DTSTAMP:20260421T015249Z
SUMMARY:Purim Shabbat Service and Congregational Dinner
DESCRIPTION:Jewish Federation of the Berkshires\nBerkshire Jewish Community
  Calendar\nhttps://jewishberkshires.org/jewish-federation-of-the-berkshire
 s-calendar/purim-shabbat-service-and-congregational-dinner-1458066818\n\nJ
 oin us as Rabbi Josh leads an energetic and uplifting service with members
  of the Temple Anshe Amunim youth community presenting a Purimshpiel follo
 wed by a festive dinner and games night in the social hall with prizes for
  costumes.  Please RSVP by Tuesday\, March 22\, 2016.   $12 per person (me
 mbers)\; $18 per person (general community)\; $6 for children\; ($36 cap p
 er family).
DTSTART;TZID=America/New_York:20160325T173000
DTEND;TZID=America/New_York:20160325T200000
END:VEVENT
END:VCALENDAR
