BEGIN:VCALENDAR
PRODID:-//eluceo/ical//2.0/EN
VERSION:2.0
CALSCALE:GREGORIAN
BEGIN:VEVENT
UID:e8911b464c5eb796bcc06569d197f3c1
DTSTAMP:20260422T115247Z
SUMMARY:Purim Beach Party
DESCRIPTION:Jewish Federation of the Berkshires\nBerkshire Jewish Community
  Calendar\nhttps://jewishberkshires.org/jewish-federation-of-the-berkshire
 s-calendar/purim-beach-party-1765392869\n\nThe KI Band is pleased to annou
 nce our 17th annual Purim concert! On Saturday\, March 7th\, please join u
 s in the social hall at 7:30 p.m. for our Purim Beach Party!
DTSTART;TZID=America/New_York:20260307T193000
DTEND;TZID=America/New_York:20260307T220000
END:VEVENT
END:VCALENDAR
