BEGIN:VCALENDAR
PRODID:-//eluceo/ical//2.0/EN
VERSION:2.0
CALSCALE:GREGORIAN
BEGIN:VEVENT
UID:549e8c859fd010ec9779f21d2294ce4a
DTSTAMP:20260425T013239Z
SUMMARY:Purim 2025: Film Night
DESCRIPTION:Jewish Federation of the Berkshires\nBerkshire Jewish Community
  Calendar\nhttps://jewishberkshires.org/jewish-federation-of-the-berkshire
 s-calendar/purim-2025-film-night-1736191307\n\nThe KI Band is pleased to a
 nnounce our 16th annual Purim concert! On Saturday\, March 8th\, please jo
 in us in the social hall at 7:30 p.m. for Purim 2025: Film Night.\n\nInspi
 red by an annual summer highlight at Tanglewood\, the band will present an
  array of iconic songs from hit movies over the past six decades. From '60
 s classics The Graduate and Easy Rider to '70s hits Grease and Saturday Ni
 ght Fever to '80s blockbusters such as Top Gun and Back to the Future\, al
 l the way to more modern box o...
DTSTART;TZID=America/New_York:20250316T193000
DTEND;TZID=America/New_York:20250316T220000
END:VEVENT
END:VCALENDAR
